BEGIN:VCALENDAR
VERSION:2.0
PRODID:-//wp-events-plugin.com//5.99912//EN
TZID:Europe/Berlin
X-WR-TIMEZONE:Europe/Berlin
BEGIN:VEVENT
UID:0-73@sachsenheim.albverein.eu
DTSTART;TZID=Europe/Berlin:20260725T170000
DTEND;TZID=Europe/Berlin:20260725T213000
DTSTAMP:20260320T062422Z
URL:https://sachsenheim.albverein.eu/events/albvereinshocketse/
SUMMARY:ALBVEREINSHOCKETSE
DESCRIPTION:Ab 17.00 Uhr in der Scheune in Kleinsachsenheim bei Familie Hau
 g
END:VEVENT
BEGIN:VTIMEZONE
TZID:Europe/Berlin
X-LIC-LOCATION:Europe/Berlin
BEGIN:DAYLIGHT
DTSTART:20260329T030000
TZOFFSETFROM:+0100
TZOFFSETTO:+0200
TZNAME:CEST
END:DAYLIGHT
END:VTIMEZONE
END:VCALENDAR