BEGIN:VCALENDAR
VERSION:2.0
PRODID:-//wp-events-plugin.com//5.99912//EN
TZID:Europe/Berlin
X-WR-TIMEZONE:Europe/Berlin
BEGIN:VEVENT
UID:0-81@sachsenheim.albverein.eu
DTSTART;TZID=Europe/Berlin;VALUE=DATE:20261105
DTEND;TZID=Europe/Berlin;VALUE=DATE:20261106
DTSTAMP:20251114T072101Z
URL:https://sachsenheim.albverein.eu/events/besenbesuch-in-talheim-bayer/
SUMMARY:Besenbesuch in Talheim (Bayer)
DESCRIPTION:SENIOREN
END:VEVENT
BEGIN:VTIMEZONE
TZID:Europe/Berlin
X-LIC-LOCATION:Europe/Berlin
BEGIN:STANDARD
DTSTART:20261025T020000
TZOFFSETFROM:+0200
TZOFFSETTO:+0100
TZNAME:CET
END:STANDARD
END:VTIMEZONE
END:VCALENDAR