BEGIN:VCALENDAR
VERSION:2.0
PRODID:-//wp-events-plugin.com//5.99912//EN
TZID:Europe/Berlin
X-WR-TIMEZONE:Europe/Berlin
BEGIN:VEVENT
UID:0-67@sachsenheim.albverein.eu
DTSTART;TZID=Europe/Berlin;VALUE=DATE:20260517
DTEND;TZID=Europe/Berlin;VALUE=DATE:20260518
DTSTAMP:20260320T061945Z
URL:https://sachsenheim.albverein.eu/events/im-tal-der-wurm/
SUMMARY:Im Tal der Würm
DESCRIPTION:\n\n\nWegbeschreibung\nVom Parkplatz an der Gaststätte Kupferh
 ammer führt uns der Weg zunächst über die Würmbrücke zum Kreisverkehr
 . Anschließend folgen wir der Seebergstraße und biegen auf den Seehauspf
 ad (Markierung: Gelbe Raute) ab. Der Weg verläuft durch schöne Waldlands
 chaften in Richtung Wildpark bis zum Seehaus.\nDer Rückweg erfolgt über 
 die Lettenbachklinge nach Würm. Danach wandern wir über die Talstraße u
 nd die Täschenwaldstraße und folgen dem Ostweg (HW 5) entlang der Würm 
 zurück zum Ausgangspunkt.\nNach der Wanderung kehren wir gemeinsam in der
  traditionsreichen Gaststätte Kupferhammer ein. Der idyllische Biergarten
  im Würmtal bietet eine schöne Gelegenheit\, den Wandertag gemütlich au
 sklingen zu lassen.\nUm Voranmeldung wird gebeten\, damit ausreichend Plä
 tze reserviert werden können.\nSonntag\, 17. Mai\nTreffpunkt:\n11:00 Uhr\
 , Bahnhof Sachsenheim\nWanderführer:\nFrank und Daniela Seifert um Anmeld
 ung wird gebeten seifi1000@yahoo.de\nStrecke:\n10\,1 km · ca. 3 Stunden 
 · leicht · 187 Höhenmeter\n\n\n\n\n\n
END:VEVENT
BEGIN:VTIMEZONE
TZID:Europe/Berlin
X-LIC-LOCATION:Europe/Berlin
BEGIN:DAYLIGHT
DTSTART:20260329T030000
TZOFFSETFROM:+0100
TZOFFSETTO:+0200
TZNAME:CEST
END:DAYLIGHT
END:VTIMEZONE
END:VCALENDAR