BEGIN:VCALENDAR
VERSION:2.0
PRODID:-//wp-events-plugin.com//5.99912//EN
TZID:Europe/Berlin
X-WR-TIMEZONE:Europe/Berlin
BEGIN:VEVENT
UID:0-86@sachsenheim.albverein.eu
DTSTART;TZID=Europe/Berlin;VALUE=DATE:20261227
DTEND;TZID=Europe/Berlin;VALUE=DATE:20261228
DTSTAMP:20251114T072339Z
URL:https://sachsenheim.albverein.eu/events/jahresabschlusswanderung/
SUMMARY:Jahresabschlusswanderung
DESCRIPTION:ORTSGRUPPE
END:VEVENT
BEGIN:VTIMEZONE
TZID:Europe/Berlin
X-LIC-LOCATION:Europe/Berlin
BEGIN:STANDARD
DTSTART:20261025T020000
TZOFFSETFROM:+0200
TZOFFSETTO:+0100
TZNAME:CET
END:STANDARD
END:VTIMEZONE
END:VCALENDAR