BEGIN:VCALENDAR
VERSION:2.0
PRODID:-//wp-events-plugin.com//5.99912//EN
TZID:Europe/Berlin
X-WR-TIMEZONE:Europe/Berlin
BEGIN:VEVENT
UID:0-62@sachsenheim.albverein.eu
DTSTART;TZID=Europe/Berlin:20260426T110000
DTEND;TZID=Europe/Berlin:20260426T150000
DTSTAMP:20260412T082925Z
URL:https://sachsenheim.albverein.eu/events/kraeuterwanderung/
SUMMARY:Kräuterwanderung
DESCRIPTION:Ausschreibung: Kräuterspaziergang \n\nAm 26.04.2026 treffen
  wir uns um 11:00 Uhr am Kriegerdenkmal in Sersheim.\n\nGemeinsam werden 
 wir die Kräuter rund um die Wiesen und den Wald erkunden\, entdecken und
  genießen.\nWer möchte\, kann gerne ein Sammelkörbchen oder ein Leinen
 säckchen mitbringen.\n\nDaniela und ich werden mit euch die Basics der
  Kräuterkunde entdecken\, daher ist diese Führung besonders für Kräu
 ter-Anfängerinnen und -Anfänger geeignet.\n\nDer Spaziergang dauert etw
 a 1\,5 Stunden.\n\nIm Anschluss hat jede Teilnehmerin und jeder Teilnehme
 r die Möglichkeit\, das mitgebrachte Grillgut zu grillen und den Tag ge
 mütlich ausklingen zu lassen.\n\nWir freuen uns auf eine rege Teilnahme\n
 \nEure Wanderführerinnen\nDaniela und Diana
END:VEVENT
BEGIN:VTIMEZONE
TZID:Europe/Berlin
X-LIC-LOCATION:Europe/Berlin
BEGIN:DAYLIGHT
DTSTART:20260329T030000
TZOFFSETFROM:+0100
TZOFFSETTO:+0200
TZNAME:CEST
END:DAYLIGHT
END:VTIMEZONE
END:VCALENDAR