BEGIN:VCALENDAR
VERSION:2.0
PRODID:-//wp-events-plugin.com//5.99912//EN
TZID:Europe/Berlin
X-WR-TIMEZONE:Europe/Berlin
BEGIN:VEVENT
UID:0-90@sachsenheim.albverein.eu
DTSTART;TZID=Europe/Berlin;VALUE=DATE:20260810
DTEND;TZID=Europe/Berlin;VALUE=DATE:20260817
DTSTAMP:20251114T075240Z
URL:https://sachsenheim.albverein.eu/events/wanderkulturreise-suedboehmen-
 zdikov/
SUMMARY:Wanderkulturreise Südböhmen Zdikov
DESCRIPTION:Stromberggau
END:VEVENT
BEGIN:VTIMEZONE
TZID:Europe/Berlin
X-LIC-LOCATION:Europe/Berlin
BEGIN:DAYLIGHT
DTSTART:20260329T030000
TZOFFSETFROM:+0100
TZOFFSETTO:+0200
TZNAME:CEST
END:DAYLIGHT
END:VTIMEZONE
END:VCALENDAR